BEGIN:VCALENDAR
VERSION:2.0
PRODID:-//Tukios.com/
BEGIN:VEVENT
UID:2f77f004-e502-4b35-a931-71055feae95f@www.eddybirchard.com
DTSTAMP:20260420T205300Z
DTSTART:20260425T150000Z
DTEND:20260425T160000Z
SUMMARY:Funeral Service
DESCRIPTION:
URL:https://www.eddybirchard.com/obituaries/marjorie-obermeier
LOCATION: 203 Main Street  Osawatomie KS 66064
GEO:38.4997888;-94.943276
END:VEVENT
END:VCALENDAR